BEGIN:VCALENDAR
VERSION:2.0
PRODID:-//Guiomar Cantó - ECPv6.15.12.2//NONSGML v1.0//EN
CALSCALE:GREGORIAN
METHOD:PUBLISH
X-WR-CALNAME:Guiomar Cantó
X-ORIGINAL-URL:https://www.guiomarcanto.com
X-WR-CALDESC:Eventos para Guiomar Cantó
REFRESH-INTERVAL;VALUE=DURATION:PT1H
X-Robots-Tag:noindex
X-PUBLISHED-TTL:PT1H
BEGIN:VTIMEZONE
TZID:UTC
BEGIN:STANDARD
TZOFFSETFROM:+0000
TZOFFSETTO:+0000
TZNAME:UTC
DTSTART:20230101T000000
END:STANDARD
END:VTIMEZONE
BEGIN:VEVENT
DTSTART;TZID=UTC:20241017T193000
DTEND;TZID=UTC:20241017T193000
DTSTAMP:20260424T111817
CREATED:20260424T084302Z
LAST-MODIFIED:20260424T084737Z
UID:3529-1729193400-1729193400@www.guiomarcanto.com
SUMMARY:2ª Sinfonía de Mahler. Auditorio Nacional
DESCRIPTION:« Todos los Eventos\n 				\n				\n				\n				\n					Este evento ha pasado. \n				\n				\n				\n				\n					\n	2ª Sinfonía de Mahler. Auditorio Nacional				\n				\n				\n				\n					\n		\n			octubre 17\n\n	\n\n	  @  \n\n\n7:30 pm\n\n			\n				\n				\n				\n						\n					\n			\n						\n				\n					\n	\n				\n				\n					\n		\n					\n		\n				\n						\n					\n			\n						\n				\n					Sobre el Evento				\n				\n				\n				\n									Guiomar Cantó cantará el 6 de junio de 2026 nuevamente en Broadway en Concierto en el Auditorio Nacional\, junto a la Orquesta y Coro Filarmonía. 								\n				\n					\n		\n					\n		\n				\n						\n					\n			\n						\n				\n					Organizador				\n				\n				\n				\n					\n	\n	Filarmonia de Madrid\n	\n\n				\n				\n					\n		\n				\n			\n						\n				\n					Categoria				\n				\n				\n				\n					\n		\n		Concierto	\n\n				\n				\n					\n		\n					\n		\n				\n						\n					\n			\n						\n				\n					Web del evento				\n				\n					\n		\n					\n		\n				\n				\n					\n				\n				\n	\n	Auditorio Nacional de Madrid\n	\n	\n\n\n\n\n\n\n\n\n\n\n		\n	\n				\n				\n				\n						\n					\n			\n						\n				\n					\n	\n		\n\n	\n	Añadir al calendario	\n		\n	\n\n		\n			\n									\n	Google Calendar\n\n									\n	iCalendar\n\n									\n	Outlook 365\n\n									\n	Outlook Live\n\n							\n		\n\n		\n	\n\n				\n				\n					\n		\n					\n		\n				\n						\n					\n			\n						\n				\n					\n	\n		\n\n				Gretel en Hansel y Gretel del Teatro Real Junior	\n\n\n		\n	\n		The Messiah\, G. F. Händel
URL:https://www.guiomarcanto.com/event/2a-sinfonia-de-mahler-auditorio-nacional/
LOCATION:Auditorio Nacional de Madrid
CATEGORIES:Concierto
ATTACH;FMTTYPE=image/png:https://www.guiomarcanto.com/wp-content/uploads/2024/10/2-sinfonia-mahler.png
END:VEVENT
END:VCALENDAR