BEGIN:VCALENDAR
VERSION:2.0
PRODID:-//Guiomar Cantó - ECPv6.15.12.2//NONSGML v1.0//EN
CALSCALE:GREGORIAN
METHOD:PUBLISH
X-WR-CALNAME:Guiomar Cantó
X-ORIGINAL-URL:https://www.guiomarcanto.com
X-WR-CALDESC:Eventos para Guiomar Cantó
REFRESH-INTERVAL;VALUE=DURATION:PT1H
X-Robots-Tag:noindex
X-PUBLISHED-TTL:PT1H
BEGIN:VTIMEZONE
TZID:UTC
BEGIN:STANDARD
TZOFFSETFROM:+0000
TZOFFSETTO:+0000
TZNAME:UTC
DTSTART:20220101T000000
END:STANDARD
END:VTIMEZONE
BEGIN:VEVENT
DTSTART;TZID=UTC:20231105T210000
DTEND;TZID=UTC:20231105T210000
DTSTAMP:20260424T111633
CREATED:20260424T082832Z
LAST-MODIFIED:20260424T083708Z
UID:3522-1699218000-1699218000@www.guiomarcanto.com
SUMMARY:Carmen en el Teatro Real
DESCRIPTION:« Todos los Eventos\n 				\n				\n				\n				\n					Este evento ha pasado. \n				\n				\n				\n				\n					\n	Carmen en el Teatro Real				\n				\n				\n				\n					\n		\n			noviembre 5\n\n	\n\n	  @  \n\n\n9:00 pm\n\n			\n				\n				\n				\n						\n					\n			\n						\n				\n					\n	\n				\n				\n					\n		\n					\n		\n				\n						\n					\n			\n						\n				\n					Sobre el Evento				\n				\n				\n				\n									El 5 de noviembre\, Guiomar Cantó debuta en el Teatro Real de Madrid con el musical flamenco de Carmen.\n								\n				\n					\n		\n					\n		\n				\n						\n					\n			\n						\n				\n					Organizador				\n				\n					\n		\n				\n			\n						\n				\n					Categoria				\n				\n					\n		\n					\n		\n				\n						\n					\n			\n						\n				\n					Web del evento				\n				\n					\n		\n					\n		\n				\n				\n					\n				\n				\n	\n	Teatro Real de Madrid\n	\n	\n\n\n	Madrid\,\n\n\n\n	Spain\n\n\n\n\n\n		\n	\n				\n				\n				\n						\n					\n			\n						\n				\n					\n	\n		\n\n	\n	Añadir al calendario	\n		\n	\n\n		\n			\n									\n	Google Calendar\n\n									\n	iCalendar\n\n									\n	Outlook 365\n\n									\n	Outlook Live\n\n							\n		\n\n		\n	\n\n				\n				\n					\n		\n					\n		\n				\n						\n					\n			\n						\n				\n					\n	\n		\n\n				Concierto en Cracovia	\n\n\n		\n	\n		Die Schöpfung \, J. Haydn
URL:https://www.guiomarcanto.com/event/carmen-en-el-teatro-real/
LOCATION:Teatro Real de Madrid\, Madrid\, Spain
ATTACH;FMTTYPE=image/jpeg:https://www.guiomarcanto.com/wp-content/uploads/2024/11/CARMEN.jpg
END:VEVENT
END:VCALENDAR