BEGIN:VCALENDAR
VERSION:2.0
PRODID:-//Guiomar Cantó - ECPv6.15.12.2//NONSGML v1.0//EN
CALSCALE:GREGORIAN
METHOD:PUBLISH
X-WR-CALNAME:Guiomar Cantó
X-ORIGINAL-URL:https://www.guiomarcanto.com
X-WR-CALDESC:Eventos para Guiomar Cantó
REFRESH-INTERVAL;VALUE=DURATION:PT1H
X-Robots-Tag:noindex
X-PUBLISHED-TTL:PT1H
BEGIN:VTIMEZONE
TZID:UTC
BEGIN:STANDARD
TZOFFSETFROM:+0000
TZOFFSETTO:+0000
TZNAME:UTC
DTSTART:20230101T000000
END:STANDARD
END:VTIMEZONE
BEGIN:VEVENT
DTSTART;VALUE=DATE:20240201
DTEND;VALUE=DATE:20240202
DTSTAMP:20260424T113124
CREATED:20260424T090644Z
LAST-MODIFIED:20260424T102012Z
UID:3549-1706745600-1706831999@www.guiomarcanto.com
SUMMARY:Die Schöpfung \, J. Haydn
DESCRIPTION:« Todos los Eventos\n 				\n				\n				\n				\n					Este evento ha pasado. \n				\n				\n				\n				\n					\n	Die Schöpfung \, J. Haydn				\n				\n				\n				\n					\n		\n			febrero 1\n\n		\n\n\n	\n				\n				\n				\n						\n					\n			\n						\n				\n					\n	\n				\n				\n					\n		\n					\n		\n				\n						\n					\n			\n						\n				\n					Sobre el Evento				\n				\n				\n				\n									El 1 de febrero\, Guiomar Cantó interpretará a Gabriel y Eva en La Creación de Haydn en el Auditorio Nacional.								\n				\n					\n		\n					\n		\n				\n						\n					\n			\n						\n				\n					Organizador				\n				\n					\n		\n				\n			\n						\n				\n					Categoria				\n				\n				\n				\n					\n		\n		Concierto	\n\n				\n				\n					\n		\n					\n		\n				\n						\n					\n			\n						\n				\n					Web del evento				\n				\n					\n		\n					\n		\n				\n				\n					\n				\n				\n	\n	Auditorio Nacional\n	\n	\n\n\n\n\n\n\n\n\n\n\n		\n	\n				\n				\n				\n						\n					\n			\n						\n				\n					\n	\n		\n\n	\n	Añadir al calendario	\n		\n	\n\n		\n			\n									\n	Google Calendar\n\n									\n	iCalendar\n\n									\n	Outlook 365\n\n									\n	Outlook Live\n\n							\n		\n\n		\n	\n\n				\n				\n					\n		\n					\n		\n				\n						\n					\n			\n						\n				\n					\n	\n		\n\n				Carmen en el Teatro Real	\n\n\n		\n	\n		Gretel en Hansel y Gretel del Teatro Real Junior
URL:https://www.guiomarcanto.com/event/die-schopfung-j-haydn/
LOCATION:Auditorio Nacional
CATEGORIES:Concierto
ATTACH;FMTTYPE=image/jpeg:https://www.guiomarcanto.com/wp-content/uploads/2024/02/Die-Schopfung-J.-Haydn.jpg
END:VEVENT
END:VCALENDAR