BEGIN:VCALENDAR
VERSION:2.0
PRODID:-//Guiomar Cantó - ECPv6.15.12.2//NONSGML v1.0//EN
CALSCALE:GREGORIAN
METHOD:PUBLISH
X-WR-CALNAME:Guiomar Cantó
X-ORIGINAL-URL:https://www.guiomarcanto.com
X-WR-CALDESC:Eventos para Guiomar Cantó
REFRESH-INTERVAL;VALUE=DURATION:PT1H
X-Robots-Tag:noindex
X-PUBLISHED-TTL:PT1H
BEGIN:VTIMEZONE
TZID:UTC
BEGIN:STANDARD
TZOFFSETFROM:+0000
TZOFFSETTO:+0000
TZNAME:UTC
DTSTART:20220101T000000
END:STANDARD
END:VTIMEZONE
BEGIN:VEVENT
DTSTART;VALUE=DATE:20230604
DTEND;VALUE=DATE:20230605
DTSTAMP:20260424T141328
CREATED:20260424T092016Z
LAST-MODIFIED:20260424T092239Z
UID:3559-1685836800-1685923199@www.guiomarcanto.com
SUMMARY:Łańcut Music Festival\, Polonia
DESCRIPTION:« Todos los Eventos\n 				\n				\n				\n				\n					Este evento ha pasado. \n				\n				\n				\n				\n					\n	Łańcut Music Festival\, Polonia				\n				\n				\n				\n					\n		\n			junio 4\n\n		\n\n\n	\n				\n				\n				\n						\n					\n			\n						\n				\n					\n	\n				\n				\n					\n		\n					\n		\n				\n						\n					\n			\n						\n				\n					Sobre el Evento				\n				\n				\n				\n									El 4 de junio\, Guiomar Cantó cantará arias y dúos con Artur Rucinski y estrenará obras de Bottigliero en Polonia.								\n				\n					\n		\n					\n		\n				\n						\n					\n			\n						\n				\n					Organizador				\n				\n					\n		\n				\n			\n						\n				\n					Categoria				\n				\n				\n				\n					\n		\n		Concierto	\n\n				\n				\n					\n		\n					\n		\n				\n						\n					\n			\n						\n				\n					Web del evento				\n				\n					\n		\n					\n		\n				\n				\n					\n				\n				\n	\n	Polonia\n	\n	\n\n\n\n\n\n\n\n\n\n\n		\n	\n				\n				\n				\n						\n					\n			\n						\n				\n					\n	\n		\n\n	\n	Añadir al calendario	\n		\n	\n\n		\n			\n									\n	Google Calendar\n\n									\n	iCalendar\n\n									\n	Outlook 365\n\n									\n	Outlook Live\n\n							\n		\n\n		\n	\n\n				\n				\n					\n		\n					\n		\n				\n						\n					\n			\n						\n				\n					\n	\n		\n\n				Gala de San Isidro en el Auditorio Nacional	\n\n\n		\n	\n		Carmina Burana
URL:https://www.guiomarcanto.com/event/lancut-music-festival-polonia/
LOCATION:Polonia
CATEGORIES:Concierto
ATTACH;FMTTYPE=image/jpeg:https://www.guiomarcanto.com/wp-content/uploads/2023/06/Lancut-Music-Festival.jpg
END:VEVENT
END:VCALENDAR