BEGIN:VCALENDAR
VERSION:2.0
PRODID:-//Guiomar Cantó - ECPv6.15.12.2//NONSGML v1.0//EN
CALSCALE:GREGORIAN
METHOD:PUBLISH
X-WR-CALNAME:Guiomar Cantó
X-ORIGINAL-URL:https://www.guiomarcanto.com
X-WR-CALDESC:Eventos para Guiomar Cantó
REFRESH-INTERVAL;VALUE=DURATION:PT1H
X-Robots-Tag:noindex
X-PUBLISHED-TTL:PT1H
BEGIN:VTIMEZONE
TZID:UTC
BEGIN:STANDARD
TZOFFSETFROM:+0000
TZOFFSETTO:+0000
TZNAME:UTC
DTSTART:20220101T000000
END:STANDARD
END:VTIMEZONE
BEGIN:VEVENT
DTSTART;TZID=UTC:20230402T200000
DTEND;TZID=UTC:20230402T200000
DTSTAMP:20260424T164546
CREATED:20260424T093526Z
LAST-MODIFIED:20260424T093752Z
UID:3570-1680465600-1680465600@www.guiomarcanto.com
SUMMARY:Requiem de Mozart
DESCRIPTION:« Todos los Eventos\n 				\n				\n				\n				\n					Este evento ha pasado. \n				\n				\n				\n				\n					\n	Requiem de Mozart				\n				\n				\n				\n					\n		\n			abril 2\n\n	\n\n	  @  \n\n\n8:00 pm\n\n			\n				\n				\n				\n						\n					\n			\n						\n				\n					\n	\n				\n				\n					\n		\n					\n		\n				\n						\n					\n			\n						\n				\n					Sobre el Evento				\n				\n				\n				\n									El 2 de abril\, Domingo de Ramos\, Guiomar Cantó interpretará el rol de soprano con Orquesta UCAM y Coral Discantus en Alicante.								\n				\n					\n		\n					\n		\n				\n						\n					\n			\n						\n				\n					Organizador				\n				\n				\n				\n					\n	\n	Ajuntament de Teulada\n	\n\n				\n				\n					\n		\n				\n			\n						\n				\n					Categoria				\n				\n				\n				\n					\n		\n		Concierto	\n\n				\n				\n					\n		\n					\n		\n				\n						\n					\n			\n						\n				\n					Web del evento				\n				\n				\n				\n					\n		\n	Visita la web oficial del evento\n\n				\n				\n					\n		\n					\n		\n				\n				\n					\n				\n				\n	\n	Auditori Teulada Moraira\n	\n	\n\n\n\n\n\n\n\n\n\n\n		\n	\n				\n				\n				\n						\n					\n			\n						\n				\n					\n	\n		\n\n	\n	Añadir al calendario	\n		\n	\n\n		\n			\n									\n	Google Calendar\n\n									\n	iCalendar\n\n									\n	Outlook 365\n\n									\n	Outlook Live\n\n							\n		\n\n		\n	\n\n				\n				\n					\n		\n					\n		\n				\n						\n					\n			\n						\n				\n					\n	\n		\n\n				Musetta en La Bohème	\n\n\n		\n	\n		Gala de San Isidro en el Auditorio Nacional
URL:https://www.guiomarcanto.com/event/requiem-de-mozart/
LOCATION:Auditori Teulada Moraira
CATEGORIES:Concierto
ATTACH;FMTTYPE=image/jpeg:https://www.guiomarcanto.com/wp-content/uploads/2023/04/requiem.jpg
END:VEVENT
END:VCALENDAR