BEGIN:VCALENDAR
VERSION:2.0
PRODID:-//Guiomar Cantó - ECPv6.15.12.2//NONSGML v1.0//EN
CALSCALE:GREGORIAN
METHOD:PUBLISH
X-WR-CALNAME:Guiomar Cantó
X-ORIGINAL-URL:https://www.guiomarcanto.com
X-WR-CALDESC:Eventos para Guiomar Cantó
REFRESH-INTERVAL;VALUE=DURATION:PT1H
X-Robots-Tag:noindex
X-PUBLISHED-TTL:PT1H
BEGIN:VTIMEZONE
TZID:UTC
BEGIN:STANDARD
TZOFFSETFROM:+0000
TZOFFSETTO:+0000
TZNAME:UTC
DTSTART:20230101T000000
END:STANDARD
END:VTIMEZONE
BEGIN:VEVENT
DTSTART;VALUE=DATE:20241119
DTEND;VALUE=DATE:20241120
DTSTAMP:20260424T111128
CREATED:20260424T081831Z
LAST-MODIFIED:20260424T101913Z
UID:3515-1731974400-1732060799@www.guiomarcanto.com
SUMMARY:The Messiah\, G. F. Händel
DESCRIPTION:« Todos los Eventos\n 				\n				\n				\n				\n					Este evento ha pasado. \n				\n				\n				\n				\n					\n	The Messiah\, G. F. Händel				\n				\n				\n				\n					\n		\n			noviembre 19\n\n		\n\n\n	\n				\n				\n				\n						\n					\n			\n						\n				\n					\n	\n				\n				\n					\n		\n					\n		\n				\n						\n					\n			\n						\n				\n					Sobre el Evento				\n				\n				\n				\n									El 19 de noviembre\, Guiomar Cantó será soprano en The Messiah de Händel\, con dirección de Oliver Weder y Rafael Albiñana. 								\n				\n					\n		\n					\n		\n				\n						\n					\n			\n						\n				\n					Organizador				\n				\n					\n		\n				\n			\n						\n				\n					Categoria				\n				\n					\n		\n					\n		\n				\n						\n					\n			\n						\n				\n					Web del evento				\n				\n					\n		\n					\n		\n				\n						\n					\n			\n						\n				\n					\n	\n		\n\n	\n	Añadir al calendario	\n		\n	\n\n		\n			\n									\n	Google Calendar\n\n									\n	iCalendar\n\n									\n	Outlook 365\n\n									\n	Outlook Live\n\n							\n		\n\n		\n	\n\n				\n				\n					\n		\n					\n		\n				\n						\n					\n			\n						\n				\n					\n	\n		\n\n				2ª Sinfonía de Mahler. Auditorio Nacional	\n\n\n		\n	\n		Broadway en concierto. Auditorio Nacional
URL:https://www.guiomarcanto.com/event/the-messiah-g-f-handel/
ATTACH;FMTTYPE=image/jpeg:https://www.guiomarcanto.com/wp-content/uploads/2024/11/messiah.jpg
END:VEVENT
END:VCALENDAR