BEGIN:VCALENDAR
VERSION:2.0
PRODID:-//Guiomar Cantó - ECPv6.15.12.2//NONSGML v1.0//EN
CALSCALE:GREGORIAN
METHOD:PUBLISH
X-WR-CALNAME:Guiomar Cantó
X-ORIGINAL-URL:https://www.guiomarcanto.com
X-WR-CALDESC:Eventos para Guiomar Cantó
REFRESH-INTERVAL;VALUE=DURATION:PT1H
X-Robots-Tag:noindex
X-PUBLISHED-TTL:PT1H
BEGIN:VTIMEZONE
TZID:UTC
BEGIN:STANDARD
TZOFFSETFROM:+0000
TZOFFSETTO:+0000
TZNAME:UTC
DTSTART:20220101T000000
END:STANDARD
END:VTIMEZONE
BEGIN:VEVENT
DTSTART;VALUE=DATE:20230228
DTEND;VALUE=DATE:20230301
DTSTAMP:20260424T193141
CREATED:20260424T095213Z
LAST-MODIFIED:20260424T095408Z
UID:3582-1677542400-1677628799@www.guiomarcanto.com
SUMMARY:Zarzuelapp\, Orquesta Sinfónia de Oviedo
DESCRIPTION:« Todos los Eventos\n 				\n				\n				\n				\n					Este evento ha pasado. \n				\n				\n				\n				\n					\n	Zarzuelapp\, Orquesta Sinfónia de Oviedo				\n				\n				\n				\n					\n		\n			febrero 28\n\n		\n\n\n	\n				\n				\n				\n						\n					\n			\n						\n				\n					\n	\n				\n				\n					\n		\n					\n		\n				\n						\n					\n			\n						\n				\n					Sobre el Evento				\n				\n				\n				\n									Del 28 de febrero al 5 de marzo\, Guiomar Cantó participará en Zaruelapp con la Orquesta Sinfónica de Oviedo.								\n				\n					\n		\n					\n		\n				\n						\n					\n			\n						\n				\n					Organizador				\n				\n				\n				\n					\n	\n	Orquesta Sinfonica del Principado de Asturias\n	\n\n				\n				\n					\n		\n				\n			\n						\n				\n					Categoria				\n				\n				\n				\n					\n		\n		Concierto	\n\n				\n				\n					\n		\n					\n		\n				\n						\n					\n			\n						\n				\n					Web del evento				\n				\n					\n		\n					\n		\n				\n				\n					\n				\n				\n	\n	Oviedo\n	\n	\n\n\n\n\n\n\n\n\n\n\n		\n	\n				\n				\n				\n						\n					\n			\n						\n				\n					\n	\n		\n\n	\n	Añadir al calendario	\n		\n	\n\n		\n			\n									\n	Google Calendar\n\n									\n	iCalendar\n\n									\n	Outlook 365\n\n									\n	Outlook Live\n\n							\n		\n\n		\n	\n\n				\n				\n					\n		\n					\n		\n				\n						\n					\n			\n						\n				\n					\n	\n		\n		\n	\n		Musetta en La Bohème
URL:https://www.guiomarcanto.com/event/zarzuelapp-orquesta-sinfonia-de-oviedo/
LOCATION:Oviedo
CATEGORIES:Concierto
ATTACH;FMTTYPE=image/jpeg:https://www.guiomarcanto.com/wp-content/uploads/2023/02/download-2.jpg
END:VEVENT
END:VCALENDAR