BEGIN:VCALENDAR
VERSION:2.0
PRODID:-//Guiomar Cantó - ECPv6.15.12.2//NONSGML v1.0//EN
CALSCALE:GREGORIAN
METHOD:PUBLISH
X-WR-CALNAME:Guiomar Cantó
X-ORIGINAL-URL:https://www.guiomarcanto.com
X-WR-CALDESC:Eventos para Guiomar Cantó
REFRESH-INTERVAL;VALUE=DURATION:PT1H
X-Robots-Tag:noindex
X-PUBLISHED-TTL:PT1H
BEGIN:VTIMEZONE
TZID:UTC
BEGIN:STANDARD
TZOFFSETFROM:+0000
TZOFFSETTO:+0000
TZNAME:UTC
DTSTART:20240101T000000
END:STANDARD
END:VTIMEZONE
BEGIN:VEVENT
DTSTART;TZID=UTC:20251006T080000
DTEND;TZID=UTC:20261014T170000
DTSTAMP:20260422T084224
CREATED:20180307T105628Z
LAST-MODIFIED:20250317T063608Z
UID:1068-1759737600-1791997200@www.guiomarcanto.com
SUMMARY:Ladies Of Sadness: Sad And Beautiful
DESCRIPTION:El 11 de abril debutaré una de las obras más majestuosas de Giuseppe Verdi en el Auditorio Nacional\, bajo la dirección del maestro Pascual Osa y acompañado por la Orquesta y Coro Filarmonía.
URL:https://www.guiomarcanto.com/event/ladies-of-sadness-sad-and-beautiful/
LOCATION:The Theater\, 8 E 9th Street\, Chicago\, IL\, 60605\, United States
CATEGORIES:Slider
ATTACH;FMTTYPE=image/jpeg:https://www.guiomarcanto.com/wp-content/uploads/2018/03/home_1_slider_1.jpg
ORGANIZER;CN="Christine Miller":MAILTO:info@example.com
END:VEVENT
END:VCALENDAR