BEGIN:VCALENDAR
VERSION:2.0
PRODID:-//Guiomar Cantó - ECPv6.15.12.2//NONSGML v1.0//EN
CALSCALE:GREGORIAN
METHOD:PUBLISH
X-WR-CALNAME:Guiomar Cantó
X-ORIGINAL-URL:https://www.guiomarcanto.com
X-WR-CALDESC:Eventos para Guiomar Cantó
REFRESH-INTERVAL;VALUE=DURATION:PT1H
X-Robots-Tag:noindex
X-PUBLISHED-TTL:PT1H
BEGIN:VTIMEZONE
TZID:UTC
BEGIN:STANDARD
TZOFFSETFROM:+0000
TZOFFSETTO:+0000
TZNAME:UTC
DTSTART:20240101T000000
END:STANDARD
END:VTIMEZONE
BEGIN:VEVENT
DTSTART;VALUE=DATE:20251123
DTEND;VALUE=DATE:20251124
DTSTAMP:20260423T160729
CREATED:20260423T090724Z
LAST-MODIFIED:20260423T090724Z
UID:3349-1763856000-1763942399@www.guiomarcanto.com
SUMMARY:Salud\, La vida breve. M Falla
DESCRIPTION:Debut de Guiomar Cantó como Salud en La vida breve de Falla\, con Filarmonía de Madrid y dirección de Pascual Osa.
URL:https://www.guiomarcanto.com/event/salud-la-vida-breve-m-falla/
ATTACH;FMTTYPE=image/png:https://www.guiomarcanto.com/wp-content/uploads/2025/11/evento-filarmonia-falla-def.png
END:VEVENT
BEGIN:VEVENT
DTSTART;VALUE=DATE:20251017
DTEND;VALUE=DATE:20251018
DTSTAMP:20260423T160729
CREATED:20260423T091116Z
LAST-MODIFIED:20260423T091116Z
UID:3357-1760659200-1760745599@www.guiomarcanto.com
SUMMARY:Conciertos Sala Maria Cristina\, Málaga
DESCRIPTION:Actuaciones de Guiomar Cantó los días 17 y 18 de octubre en la Sala María Cristina\, acompañada por Aylin Pla.
URL:https://www.guiomarcanto.com/event/conciertos-sala-maria-cristina-malaga/
ATTACH;FMTTYPE=image/jpeg:https://www.guiomarcanto.com/wp-content/uploads/2025/10/download.jpg
END:VEVENT
BEGIN:VEVENT
DTSTART;TZID=UTC:20250611T193000
DTEND;TZID=UTC:20250611T193000
DTSTAMP:20260423T160729
CREATED:20260423T082814Z
LAST-MODIFIED:20260423T125847Z
UID:3328-1749670200-1749670200@www.guiomarcanto.com
SUMMARY:Gira Corea del Sur
DESCRIPTION:Guiomar recorrerá Corea del Sur en junio con la KNN Broadcasting Orchestra\, interpretando arias de ópera y canciones coreanas.		 \n\n	« Todos los Eventos\n \nEste evento ha pasado. \n\n	Gira Corea del Sur\n			junio 11\n	  @\n7:30 pm\n	 \nSobre el Evento\n		Ópera	 \nInformación del Evento\nInformación del Evento\nWeb del evento\n	https://www.knn.co.kr/event/490533\n\n	\n	Añadir al calendario	\n		\n	\n \n\n\n	Google Calendar\n\n\n	iCalendar\n\n\n	Outlook 365\n\n\n	Outlook Live\n\n\n\n\n\n\n				8º Sinfonía de G. Mahler	\n\n\n	\n		Conciertos Sala Maria Cristina\, Málaga
URL:https://www.guiomarcanto.com/event/gira-corea-del-sur/
CATEGORIES:Ópera
ATTACH;FMTTYPE=image/jpeg:https://www.guiomarcanto.com/wp-content/uploads/2025/06/b8b3eac1-84ef-434b-9a50-ab823367ef81.jpg
END:VEVENT
BEGIN:VEVENT
DTSTART;VALUE=DATE:20250531
DTEND;VALUE=DATE:20250601
DTSTAMP:20260423T160729
CREATED:20260423T093044Z
LAST-MODIFIED:20260423T093944Z
UID:3364-1748649600-1748735999@www.guiomarcanto.com
SUMMARY:8º Sinfonía de G. Mahler
DESCRIPTION:El 31 de mayo\, Guiomar Cantó será soprano 1 en el Auditorio Nacional\, con Filarmonía y dirección de Pascual Osa.
URL:https://www.guiomarcanto.com/event/8o-sinfonia-de-g-mahler/
ATTACH;FMTTYPE=image/png:https://www.guiomarcanto.com/wp-content/uploads/2018/02/large.png
END:VEVENT
BEGIN:VEVENT
DTSTART;VALUE=DATE:20250411
DTEND;VALUE=DATE:20250412
DTSTAMP:20260423T160729
CREATED:20251210T090549Z
LAST-MODIFIED:20260423T104328Z
UID:2773-1744329600-1744415999@www.guiomarcanto.com
SUMMARY:Réquiem de Verdi. Auditorio Nacional
DESCRIPTION:El 11 de abril debutaré una de las obras más majestuosas de Giuseppe Verdi en el Auditorio Nacional\, bajo la dirección del maestro Pascual Osa y acompañado por la Orquesta y Coro Filarmonía. \nEste evento ha pasado. \n\n	Réquiem de Verdi. Auditorio Nacional\n			abril 11 \n\n	Categorías:\n		Ópera	 \n\n	Web:\n	https://www.auditorionacional.mcu.es/es/programacion/filarmonia-de-madrid-verdi-requiem-1\n\n	\n	Añadir al calendario	\n		\n	\n \n\n\n	Google Calendar\n\n\n	iCalendar\n\n\n	Outlook 365\n\n\n	Outlook Live\n\n\n\n\n\n	\n		8º Sinfonía de G. Mahler
URL:https://www.guiomarcanto.com/event/requiem-de-verdi-auditorio-nacional/
CATEGORIES:Ópera
END:VEVENT
END:VCALENDAR