BEGIN:VCALENDAR
VERSION:2.0
PRODID:-//Guiomar Cantó - ECPv6.15.12.2//NONSGML v1.0//EN
CALSCALE:GREGORIAN
METHOD:PUBLISH
X-WR-CALNAME:Guiomar Cantó
X-ORIGINAL-URL:https://www.guiomarcanto.com
X-WR-CALDESC:Eventos para Guiomar Cantó
REFRESH-INTERVAL;VALUE=DURATION:PT1H
X-Robots-Tag:noindex
X-PUBLISHED-TTL:PT1H
BEGIN:VTIMEZONE
TZID:UTC
BEGIN:STANDARD
TZOFFSETFROM:+0000
TZOFFSETTO:+0000
TZNAME:UTC
DTSTART:20240101T000000
END:STANDARD
END:VTIMEZONE
BEGIN:VEVENT
DTSTART;VALUE=DATE:20251017
DTEND;VALUE=DATE:20251018
DTSTAMP:20260424T141819
CREATED:20260423T091116Z
LAST-MODIFIED:20260424T111614Z
UID:3357-1760659200-1760745599@www.guiomarcanto.com
SUMMARY:Conciertos Sala Maria Cristina\, Málaga
DESCRIPTION:« Todos los Eventos\n 				\n				\n				\n				\n					Este evento ha pasado. \n				\n				\n				\n				\n					\n	Broadway en concierto. Auditorio Nacional				\n				\n				\n				\n					\n		\n			marzo 11\n\n		\n\n\n	\n				\n				\n				\n						\n					\n			\n						\n				\n					\n	\n				\n				\n					\n		\n					\n		\n				\n						\n					\n			\n						\n				\n					Sobre el Evento				\n				\n				\n				\n									Guiomar Cantó cantará el 6 de junio de 2026 nuevamente en Broadway en Concierto en el Auditorio Nacional\, junto a la Orquesta y Coro Filarmonía. 								\n				\n					\n		\n					\n		\n				\n						\n					\n			\n						\n				\n					Organizador				\n				\n				\n				\n					\n	\n	Orquesta y Coro Filarmonía\n	\n\n				\n				\n					\n		\n				\n			\n						\n				\n					Categoria				\n				\n				\n				\n					\n		\n		Concierto	\n\n				\n				\n					\n		\n					\n		\n				\n						\n					\n			\n						\n				\n					Web del evento				\n				\n					\n		\n					\n		\n				\n				\n					\n				\n				\n	\n	Auditorio Nacional\n	\n	\n\n\n\n\n\n\n\n\n\n\n		\n	\n				\n				\n				\n						\n					\n			\n						\n				\n					\n	\n		\n\n	\n	Añadir al calendario	\n		\n	\n\n		\n			\n									\n	Google Calendar\n\n									\n	iCalendar\n\n									\n	Outlook 365\n\n									\n	Outlook Live\n\n							\n		\n\n		\n	\n\n				\n				\n					\n		\n					\n		\n				\n						\n					\n			\n						\n				\n					\n	\n		\n\n				The Messiah\, G. F. Händel	\n\n\n		\n	\n		Alice en Falstaff de Giuseppe Verdi
URL:https://www.guiomarcanto.com/event/conciertos-sala-maria-cristina-malaga/
LOCATION:Auditorio Nacional
CATEGORIES:Concierto
ATTACH;FMTTYPE=image/jpeg:https://www.guiomarcanto.com/wp-content/uploads/2025/10/download.jpg
END:VEVENT
BEGIN:VEVENT
DTSTART;VALUE=DATE:20251123
DTEND;VALUE=DATE:20251124
DTSTAMP:20260424T141820
CREATED:20260423T090724Z
LAST-MODIFIED:20260424T111514Z
UID:3349-1763856000-1763942399@www.guiomarcanto.com
SUMMARY:Salud\, La vida breve. M Falla
DESCRIPTION:« Todos los Eventos\n 				\n				\n				\n				\n					Este evento ha pasado. \n				\n				\n				\n				\n					\n	Broadway en concierto. Auditorio Nacional				\n				\n				\n				\n					\n		\n			marzo 11\n\n		\n\n\n	\n				\n				\n				\n						\n					\n			\n						\n				\n					\n	\n				\n				\n					\n		\n					\n		\n				\n						\n					\n			\n						\n				\n					Sobre el Evento				\n				\n				\n				\n									Guiomar Cantó cantará el 6 de junio de 2026 nuevamente en Broadway en Concierto en el Auditorio Nacional\, junto a la Orquesta y Coro Filarmonía. 								\n				\n					\n		\n					\n		\n				\n						\n					\n			\n						\n				\n					Organizador				\n				\n				\n				\n					\n	\n	Orquesta y Coro Filarmonía\n	\n\n				\n				\n					\n		\n				\n			\n						\n				\n					Categoria				\n				\n				\n				\n					\n		\n		Concierto	\n\n				\n				\n					\n		\n					\n		\n				\n						\n					\n			\n						\n				\n					Web del evento				\n				\n					\n		\n					\n		\n				\n				\n					\n				\n				\n	\n	Auditorio Nacional\n	\n	\n\n\n\n\n\n\n\n\n\n\n		\n	\n				\n				\n				\n						\n					\n			\n						\n				\n					\n	\n		\n\n	\n	Añadir al calendario	\n		\n	\n\n		\n			\n									\n	Google Calendar\n\n									\n	iCalendar\n\n									\n	Outlook 365\n\n									\n	Outlook Live\n\n							\n		\n\n		\n	\n\n				\n				\n					\n		\n					\n		\n				\n						\n					\n			\n						\n				\n					\n	\n		\n\n				The Messiah\, G. F. Händel	\n\n\n		\n	\n		Alice en Falstaff de Giuseppe Verdi
URL:https://www.guiomarcanto.com/event/salud-la-vida-breve-m-falla/
LOCATION:Auditorio Nacional de Música
CATEGORIES:Concierto
ATTACH;FMTTYPE=image/png:https://www.guiomarcanto.com/wp-content/uploads/2025/11/evento-filarmonia-falla-def.png
END:VEVENT
BEGIN:VEVENT
DTSTART;TZID=UTC:20260424T080000
DTEND;TZID=UTC:20260424T170000
DTSTAMP:20260424T141820
CREATED:20260424T095802Z
LAST-MODIFIED:20260424T100004Z
UID:3588-1777017600-1777050000@www.guiomarcanto.com
SUMMARY:Gran Gala de Zarzuela\, Auditorio Nacional de Madrid
DESCRIPTION:« Todos los Eventos\n 				\n				\n				\n				\n					Este evento ha pasado. \n				\n				\n				\n				\n					\n	Broadway en concierto. Auditorio Nacional				\n				\n				\n				\n					\n		\n			marzo 11\n\n		\n\n\n	\n				\n				\n				\n						\n					\n			\n						\n				\n					\n	\n				\n				\n					\n		\n					\n		\n				\n						\n					\n			\n						\n				\n					Sobre el Evento				\n				\n				\n				\n									Guiomar Cantó cantará el 6 de junio de 2026 nuevamente en Broadway en Concierto en el Auditorio Nacional\, junto a la Orquesta y Coro Filarmonía. 								\n				\n					\n		\n					\n		\n				\n						\n					\n			\n						\n				\n					Organizador				\n				\n				\n				\n					\n	\n	Orquesta y Coro Filarmonía\n	\n\n				\n				\n					\n		\n				\n			\n						\n				\n					Categoria				\n				\n				\n				\n					\n		\n		Concierto	\n\n				\n				\n					\n		\n					\n		\n				\n						\n					\n			\n						\n				\n					Web del evento				\n				\n					\n		\n					\n		\n				\n				\n					\n				\n				\n	\n	Auditorio Nacional\n	\n	\n\n\n\n\n\n\n\n\n\n\n		\n	\n				\n				\n				\n						\n					\n			\n						\n				\n					\n	\n		\n\n	\n	Añadir al calendario	\n		\n	\n\n		\n			\n									\n	Google Calendar\n\n									\n	iCalendar\n\n									\n	Outlook 365\n\n									\n	Outlook Live\n\n							\n		\n\n		\n	\n\n				\n				\n					\n		\n					\n		\n				\n						\n					\n			\n						\n				\n					\n	\n		\n\n				The Messiah\, G. F. Händel	\n\n\n		\n	\n		Alice en Falstaff de Giuseppe Verdi
URL:https://www.guiomarcanto.com/event/gran-gala-de-zarzuela-auditorio-nacional-de-madrid/
LOCATION:Auditorio Nacional
CATEGORIES:Concierto
ATTACH;FMTTYPE=image/jpeg:https://www.guiomarcanto.com/wp-content/uploads/2023/01/large.jpg
END:VEVENT
BEGIN:VEVENT
DTSTART;TZID=UTC:20260516T193000
DTEND;TZID=UTC:20260516T220000
DTSTAMP:20260424T141820
CREATED:20260422T110017Z
LAST-MODIFIED:20260424T070431Z
UID:3274-1778959800-1778968800@www.guiomarcanto.com
SUMMARY:Madama Butterfly
DESCRIPTION:« Todos los Eventos\n 				\n				\n				\n				\n					Este evento ha pasado. \n				\n				\n				\n				\n					\n	Broadway en concierto. Auditorio Nacional				\n				\n				\n				\n					\n		\n			marzo 11\n\n		\n\n\n	\n				\n				\n				\n						\n					\n			\n						\n				\n					\n	\n				\n				\n					\n		\n					\n		\n				\n						\n					\n			\n						\n				\n					Sobre el Evento				\n				\n				\n				\n									Guiomar Cantó cantará el 6 de junio de 2026 nuevamente en Broadway en Concierto en el Auditorio Nacional\, junto a la Orquesta y Coro Filarmonía. 								\n				\n					\n		\n					\n		\n				\n						\n					\n			\n						\n				\n					Organizador				\n				\n				\n				\n					\n	\n	Orquesta y Coro Filarmonía\n	\n\n				\n				\n					\n		\n				\n			\n						\n				\n					Categoria				\n				\n				\n				\n					\n		\n		Concierto	\n\n				\n				\n					\n		\n					\n		\n				\n						\n					\n			\n						\n				\n					Web del evento				\n				\n					\n		\n					\n		\n				\n				\n					\n				\n				\n	\n	Auditorio Nacional\n	\n	\n\n\n\n\n\n\n\n\n\n\n		\n	\n				\n				\n				\n						\n					\n			\n						\n				\n					\n	\n		\n\n	\n	Añadir al calendario	\n		\n	\n\n		\n			\n									\n	Google Calendar\n\n									\n	iCalendar\n\n									\n	Outlook 365\n\n									\n	Outlook Live\n\n							\n		\n\n		\n	\n\n				\n				\n					\n		\n					\n		\n				\n						\n					\n			\n						\n				\n					\n	\n		\n\n				The Messiah\, G. F. Händel	\n\n\n		\n	\n		Alice en Falstaff de Giuseppe Verdi
URL:https://www.guiomarcanto.com/event/madama-butterfly/
CATEGORIES:Ópera
ATTACH;FMTTYPE=image/jpeg:https://www.guiomarcanto.com/wp-content/uploads/2026/04/madamabutterfly1.jpg
END:VEVENT
BEGIN:VEVENT
DTSTART;TZID=UTC:20260531T190000
DTEND;TZID=UTC:20260531T220000
DTSTAMP:20260424T141820
CREATED:20260422T112250Z
LAST-MODIFIED:20260424T071037Z
UID:312-1780254000-1780264800@www.guiomarcanto.com
SUMMARY:8ª Sinfónia de G. Mahler
DESCRIPTION:« Todos los Eventos\n 				\n				\n				\n				\n					Este evento ha pasado. \n				\n				\n				\n				\n					\n	Broadway en concierto. Auditorio Nacional				\n				\n				\n				\n					\n		\n			marzo 11\n\n		\n\n\n	\n				\n				\n				\n						\n					\n			\n						\n				\n					\n	\n				\n				\n					\n		\n					\n		\n				\n						\n					\n			\n						\n				\n					Sobre el Evento				\n				\n				\n				\n									Guiomar Cantó cantará el 6 de junio de 2026 nuevamente en Broadway en Concierto en el Auditorio Nacional\, junto a la Orquesta y Coro Filarmonía. 								\n				\n					\n		\n					\n		\n				\n						\n					\n			\n						\n				\n					Organizador				\n				\n				\n				\n					\n	\n	Orquesta y Coro Filarmonía\n	\n\n				\n				\n					\n		\n				\n			\n						\n				\n					Categoria				\n				\n				\n				\n					\n		\n		Concierto	\n\n				\n				\n					\n		\n					\n		\n				\n						\n					\n			\n						\n				\n					Web del evento				\n				\n					\n		\n					\n		\n				\n				\n					\n				\n				\n	\n	Auditorio Nacional\n	\n	\n\n\n\n\n\n\n\n\n\n\n		\n	\n				\n				\n				\n						\n					\n			\n						\n				\n					\n	\n		\n\n	\n	Añadir al calendario	\n		\n	\n\n		\n			\n									\n	Google Calendar\n\n									\n	iCalendar\n\n									\n	Outlook 365\n\n									\n	Outlook Live\n\n							\n		\n\n		\n	\n\n				\n				\n					\n		\n					\n		\n				\n						\n					\n			\n						\n				\n					\n	\n		\n\n				The Messiah\, G. F. Händel	\n\n\n		\n	\n		Alice en Falstaff de Giuseppe Verdi
URL:https://www.guiomarcanto.com/event/mahler/
LOCATION:Auditorio Nacional de Madrid
CATEGORIES:Concierto
ATTACH;FMTTYPE=image/png:https://www.guiomarcanto.com/wp-content/uploads/2018/02/large.png
END:VEVENT
BEGIN:VEVENT
DTSTART;TZID=UTC:20260606T193000
DTEND;TZID=UTC:20260606T213000
DTSTAMP:20260424T141820
CREATED:20260422T114455Z
LAST-MODIFIED:20260424T071559Z
UID:3257-1780774200-1780781400@www.guiomarcanto.com
SUMMARY:Broadway en Concierto
DESCRIPTION:« Todos los Eventos\n 				\n				\n				\n				\n					Este evento ha pasado. \n				\n				\n				\n				\n					\n	Broadway en concierto. Auditorio Nacional				\n				\n				\n				\n					\n		\n			marzo 11\n\n		\n\n\n	\n				\n				\n				\n						\n					\n			\n						\n				\n					\n	\n				\n				\n					\n		\n					\n		\n				\n						\n					\n			\n						\n				\n					Sobre el Evento				\n				\n				\n				\n									Guiomar Cantó cantará el 6 de junio de 2026 nuevamente en Broadway en Concierto en el Auditorio Nacional\, junto a la Orquesta y Coro Filarmonía. 								\n				\n					\n		\n					\n		\n				\n						\n					\n			\n						\n				\n					Organizador				\n				\n				\n				\n					\n	\n	Orquesta y Coro Filarmonía\n	\n\n				\n				\n					\n		\n				\n			\n						\n				\n					Categoria				\n				\n				\n				\n					\n		\n		Concierto	\n\n				\n				\n					\n		\n					\n		\n				\n						\n					\n			\n						\n				\n					Web del evento				\n				\n					\n		\n					\n		\n				\n				\n					\n				\n				\n	\n	Auditorio Nacional\n	\n	\n\n\n\n\n\n\n\n\n\n\n		\n	\n				\n				\n				\n						\n					\n			\n						\n				\n					\n	\n		\n\n	\n	Añadir al calendario	\n		\n	\n\n		\n			\n									\n	Google Calendar\n\n									\n	iCalendar\n\n									\n	Outlook 365\n\n									\n	Outlook Live\n\n							\n		\n\n		\n	\n\n				\n				\n					\n		\n					\n		\n				\n						\n					\n			\n						\n				\n					\n	\n		\n\n				The Messiah\, G. F. Händel	\n\n\n		\n	\n		Alice en Falstaff de Giuseppe Verdi
URL:https://www.guiomarcanto.com/event/broadway-en-concierto/
LOCATION:Auditorio Nacional de Madrid
CATEGORIES:Concierto
ATTACH;FMTTYPE=image/png:https://www.guiomarcanto.com/wp-content/uploads/2026/04/large-2.png
END:VEVENT
END:VCALENDAR